BEGIN:VCALENDAR
VERSION:2.0
PRODID:-//https://fw-mw.ch//NONSGML kigkonsult.se iCalcreator 2.29.29//
CALSCALE:GREGORIAN
METHOD:PUBLISH
UID:4189afd1-5a6e-4e09-9113-be36f6281d45
X-WR-CALNAME:JCal Pro Kalender
X-WR-CALDESC:Ihr Online-Terminkalender
X-WR-TIMEZONE:Europe/Zurich
BEGIN:VTIMEZONE
TZID:Europe/Zurich
BEGIN:STANDARD
TZNAME:CET
DTSTART:20251026T030000
TZOFFSETFROM:+0200
TZOFFSETTO:+0100
RDATE:20261025T030000
END:STANDARD
BEGIN:DAYLIGHT
TZNAME:CEST
DTSTART:20260329T020000
TZOFFSETFROM:+0100
TZOFFSETTO:+0200
RDATE:20270328T020000
END:DAYLIGHT
END:VTIMEZONE
BEGIN:VEVENT
UID:64205381-5335-C558-BCBA-50E4929EC348
DTSTAMP:20260421T082033Z
CATEGORIES:Gesamte FW
DESCRIPTION:<p>Thema/Dienst: Gesamte Feuerwehr <br /> Übungsstoff: Einsatzü
 bung <br /> Verantwortlich: Hptm Fuchs Reto <br /> Aufgebot: Ganze Feuerwe
 hr </p>
DTSTART;TZID=Europe/Zurich:20250519T190000
DTEND;TZID=Europe/Zurich:20250519T214500
SUMMARY:Gesamte Feuerwehr
URL:https://fw-mw.ch/uebungen/jahresprogramm-202/159-gesamte-fw/564-gesamte
 -feuerwehr
X-ALT-DESC;FMTTYPE=TEXT/HTML:<p>Thema/Dienst: Gesamte Feuerwehr <br /> Übun
 gsstoff: Einsatzübung <br /> Verantwortlich: Hptm Fuchs Reto <br /> Aufgeb
 ot: Ganze Feuerwehr </p>
END:VEVENT
BEGIN:VEVENT
UID:697DEA9A-83C3-8D72-20C9-98F5F19A0207
DTSTAMP:20260421T082033Z
CATEGORIES:Holzergruppe
DESCRIPTION:<p>Thema/Dienst: Holzergruppe <br /> Übungsstoff: Übung <br /> 
 Verantwortlich: Sdt Kaspar Michael <br /> Aufgebot: Holzergruppe </p>
DTSTART;TZID=Europe/Zurich:20250520T194500
DTEND;TZID=Europe/Zurich:20250520T214500
SUMMARY:Holzergruppe
URL:https://fw-mw.ch/uebungen/jahresprogramm-202/183-holzergruppe/565-holze
 rgruppe
X-ALT-DESC;FMTTYPE=TEXT/HTML:<p>Thema/Dienst: Holzergruppe <br /> Übungssto
 ff: Übung <br /> Verantwortlich: Sdt Kaspar Michael <br /> Aufgebot: Holze
 rgruppe </p>
END:VEVENT
BEGIN:VEVENT
UID:CA3C5D91-F25A-627C-6611-1318AA97E7E2
DTSTAMP:20260421T082033Z
CATEGORIES:Fahrtraining Gruppe 2
DESCRIPTION:<p>Thema/Dienst: Fahrschule Gruppe 2 <br /> Übungsstoff: Einsat
 zpläne\, Materialkenntnis PIF\, Aggregate\, Lichtmast\, Lüfter\, Hebebühne
  <br /> Verantwortlich: Oblt Müller René <br /> Aufgebot: Fahrschule Grupp
 e 2 </p>
DTSTART;TZID=Europe/Zurich:20250522T194500
DTEND;TZID=Europe/Zurich:20250522T214500
SUMMARY:Fahrschule Gruppe 2
URL:https://fw-mw.ch/uebungen/jahresprogramm-202/172-fahrtraining-gruppe-2/
 566-fahrschule-gruppe-2
X-ALT-DESC;FMTTYPE=TEXT/HTML:<p>Thema/Dienst: Fahrschule Gruppe 2 <br /> Üb
 ungsstoff: Einsatzpläne\, Materialkenntnis PIF\, Aggregate\, Lichtmast\, L
 üfter\, Hebebühne <br /> Verantwortlich: Oblt Müller René <br /> Aufgebot:
  Fahrschule Gruppe 2 </p>
END:VEVENT
BEGIN:VEVENT
UID:BCD03B89-68A6-6A4B-F2CC-B0462D0DCCC2
DTSTAMP:20260421T082033Z
CATEGORIES:Fahrtraining Verkehr Gruppe 2
DESCRIPTION:<p>Thema/Dienst: Fahrtraining Verkehr Gruppe 2 <br /> Übungssto
 ff: Ortskunde / Einsatzpläne <br /> Verantwortlich: Wm Speck Patrick <br /
 > Aufgebot: Fahrschule Verkehr Gruppe 2 </p>
DTSTART;TZID=Europe/Zurich:20250522T194500
DTEND;TZID=Europe/Zurich:20250522T214500
SUMMARY:Fahrtraining Verkehr Gruppe 2
URL:https://fw-mw.ch/uebungen/jahresprogramm-202/175-fahrtraining-verkehr-g
 ruppe-2/567-fahrtraining-verkehr-gruppe-2
X-ALT-DESC;FMTTYPE=TEXT/HTML:<p>Thema/Dienst: Fahrtraining Verkehr Gruppe 2
  <br /> Übungsstoff: Ortskunde / Einsatzpläne <br /> Verantwortlich: Wm Sp
 eck Patrick <br /> Aufgebot: Fahrschule Verkehr Gruppe 2 </p>
END:VEVENT
END:VCALENDAR
