BEGIN:VCALENDAR
VERSION:2.0
PRODID:-//https://fw-mw.ch//NONSGML kigkonsult.se iCalcreator 2.29.29//
CALSCALE:GREGORIAN
METHOD:PUBLISH
UID:483fdb7f-bb03-48a0-9759-81d57d8e8584
X-WR-CALNAME:JCal Pro Kalender
X-WR-CALDESC:Ihr Online-Terminkalender
X-WR-TIMEZONE:Europe/Zurich
BEGIN:VTIMEZONE
TZID:Europe/Zurich
BEGIN:STANDARD
TZNAME:CET
DTSTART:20251026T030000
TZOFFSETFROM:+0200
TZOFFSETTO:+0100
RDATE:20261025T030000
END:STANDARD
BEGIN:DAYLIGHT
TZNAME:CEST
DTSTART:20260329T020000
TZOFFSETFROM:+0100
TZOFFSETTO:+0200
RDATE:20270328T020000
END:DAYLIGHT
END:VTIMEZONE
BEGIN:VEVENT
UID:4B5F827A-A993-88A1-AB84-8AAF961513C1
DTSTAMP:20260423T080800Z
CATEGORIES:Zug 2
DESCRIPTION:<p>Thema/Dienst: Zug 2 <br /> Übungsstoff: Ölwehr\, Wassersauge
 r &amp\; Tauchpumpen\, Abhalten und Ableiten von Wasser <br /> Verantwortl
 ich: Lt Hochuli Cynthia <br /> Aufgebot: Stabsabteilung Zug 2\, Zug 2 </p>
DTSTART;TZID=Europe/Zurich:20250505T194500
DTEND;TZID=Europe/Zurich:20250505T214500
SUMMARY:Zug 2
URL:https://fw-mw.ch/uebungen/jahresprogramm-202/162-zug-2/557-zug-2
X-ALT-DESC;FMTTYPE=TEXT/HTML:<p>Thema/Dienst: Zug 2 <br /> Übungsstoff: Ölw
 ehr\, Wassersauger &amp\; Tauchpumpen\, Abhalten und Ableiten von Wasser <
 br /> Verantwortlich: Lt Hochuli Cynthia <br /> Aufgebot: Stabsabteilung Z
 ug 2\, Zug 2 </p>
END:VEVENT
BEGIN:VEVENT
UID:E884B511-F731-4DB0-1B7B-8837E2B55811
DTSTAMP:20260423T080800Z
CATEGORIES:Absturzsicherung
DESCRIPTION:<p>Thema/Dienst: Absturzsicherung <br /> Übungsstoff: Schrägdac
 h Arbeitstechnik Aufbau <br /> Verantwortlich: Adj Uof Rüede Sebastian <br
  /> Aufgebot: Absturzsicherung \, Stabsabteilung Absturzsicherung </p>
DTSTART;TZID=Europe/Zurich:20250506T191500
DTEND;TZID=Europe/Zurich:20250506T214500
SUMMARY:Absturzsicherung
URL:https://fw-mw.ch/uebungen/jahresprogramm-202/170-absturzsicherung/558-a
 bsturzsicherung
X-ALT-DESC;FMTTYPE=TEXT/HTML:<p>Thema/Dienst: Absturzsicherung <br /> Übung
 sstoff: Schrägdach Arbeitstechnik Aufbau <br /> Verantwortlich: Adj Uof Rü
 ede Sebastian <br /> Aufgebot: Absturzsicherung \, Stabsabteilung Absturzs
 icherung </p>
END:VEVENT
BEGIN:VEVENT
UID:D03B124C-1B55-792B-9CFD-1736A97A54F0
DTSTAMP:20260423T080800Z
CATEGORIES:Chargierte
DESCRIPTION:<p>Thema/Dienst: Chargierte <br /> Übungsstoff: Brand Elektro-P
 W <br /> Verantwortlich: Oblt Gurtner Florian <br /> Aufgebot: Kader </p>
DTSTART;TZID=Europe/Zurich:20250508T194500
DTEND;TZID=Europe/Zurich:20250508T214500
SUMMARY:Chargierte
URL:https://fw-mw.ch/uebungen/jahresprogramm-202/164-chargierte/559-chargie
 rte
X-ALT-DESC;FMTTYPE=TEXT/HTML:<p>Thema/Dienst: Chargierte <br /> Übungsstoff
 : Brand Elektro-PW <br /> Verantwortlich: Oblt Gurtner Florian <br /> Aufg
 ebot: Kader </p>
END:VEVENT
END:VCALENDAR
