BEGIN:VCALENDAR
VERSION:2.0
PRODID:-//https://fw-mw.ch//NONSGML kigkonsult.se iCalcreator 2.29.29//
CALSCALE:GREGORIAN
METHOD:PUBLISH
UID:981d5abf-8a54-4b90-993e-a37969b37110
X-WR-CALNAME:JCal Pro Kalender
X-WR-CALDESC:Ihr Online-Terminkalender
X-WR-TIMEZONE:Europe/Zurich
BEGIN:VTIMEZONE
TZID:Europe/Zurich
BEGIN:STANDARD
TZNAME:CET
DTSTART:20251026T030000
TZOFFSETFROM:+0200
TZOFFSETTO:+0100
RDATE:20261025T030000
END:STANDARD
BEGIN:DAYLIGHT
TZNAME:CEST
DTSTART:20260329T020000
TZOFFSETFROM:+0100
TZOFFSETTO:+0200
RDATE:20270328T020000
END:DAYLIGHT
END:VTIMEZONE
BEGIN:VEVENT
UID:2388F4E2-CE7E-7435-1410-E938EF88560C
DTSTAMP:20260421T081753Z
CATEGORIES:Atemschutz
DESCRIPTION:<p>Thema/Dienst: Gemeinsame Übung AS+Z1+Z2 <br /> Übungsstoff: 
 AS Material\, Sammelplatz\, Schlauchmanagement <br /> Verantwortlich: Lt G
 loor Simon <br /> Aufgebot: Stabsabteilung AS\, Atemschutz </p>
DTSTART;TZID=Europe/Zurich:20250602T191500
DTEND;TZID=Europe/Zurich:20250602T214500
SUMMARY:Gemeinsame Übung AS+Z1+Z2
URL:https://fw-mw.ch/uebungen/jahresprogramm-202/165-atemschutz/570-gemeins
 ame-uebung-as-z1-z2
X-ALT-DESC;FMTTYPE=TEXT/HTML:<p>Thema/Dienst: Gemeinsame Übung AS+Z1+Z2 <br
  /> Übungsstoff: AS Material\, Sammelplatz\, Schlauchmanagement <br /> Ver
 antwortlich: Lt Gloor Simon <br /> Aufgebot: Stabsabteilung AS\, Atemschut
 z </p>
END:VEVENT
BEGIN:VEVENT
UID:FF4897AD-2880-38EF-0DCD-67D01E4BF7A2
DTSTAMP:20260421T081753Z
CATEGORIES:Zug 1
DESCRIPTION:<p>Thema/Dienst: Gemeinsame Übung AS+Z1+Z2 <br /> Übungsstoff: 
 AS Material\, Sammelplatz\, Schlauchmanagement <br /> Verantwortlich: Lt L
 äuchli Thomas <br /> Aufgebot: Stabsabteilung Zug 1\, Zug 1 </p>
DTSTART;TZID=Europe/Zurich:20250602T191500
DTEND;TZID=Europe/Zurich:20250602T214500
SUMMARY:Gemeinsame Übung AS+Z1+Z2
URL:https://fw-mw.ch/uebungen/jahresprogramm-202/161-zug-1/571-gemeinsame-u
 ebung-as-z1-z2
X-ALT-DESC;FMTTYPE=TEXT/HTML:<p>Thema/Dienst: Gemeinsame Übung AS+Z1+Z2 <br
  /> Übungsstoff: AS Material\, Sammelplatz\, Schlauchmanagement <br /> Ver
 antwortlich: Lt Läuchli Thomas <br /> Aufgebot: Stabsabteilung Zug 1\, Zug
  1 </p>
END:VEVENT
BEGIN:VEVENT
UID:56AEBDEB-71F1-A234-B79D-D3274ED758FC
DTSTAMP:20260421T081753Z
CATEGORIES:Zug 2
DESCRIPTION:<p>Thema/Dienst: Gemeinsame Übung AS+Z1+Z2 <br /> Übungsstoff: 
 AS Material\, Sammelplatz\, Schlauchmanagement <br /> Verantwortlich: Lt H
 ochuli Cynthia <br /> Aufgebot: Stabsabteilung Zug 2\, Zug 2 </p>
DTSTART;TZID=Europe/Zurich:20250602T191500
DTEND;TZID=Europe/Zurich:20250602T214500
SUMMARY:Gemeinsame Übung AS+Z1+Z2
URL:https://fw-mw.ch/uebungen/jahresprogramm-202/162-zug-2/572-gemeinsame-u
 ebung-as-z1-z2
X-ALT-DESC;FMTTYPE=TEXT/HTML:<p>Thema/Dienst: Gemeinsame Übung AS+Z1+Z2 <br
  /> Übungsstoff: AS Material\, Sammelplatz\, Schlauchmanagement <br /> Ver
 antwortlich: Lt Hochuli Cynthia <br /> Aufgebot: Stabsabteilung Zug 2\, Zu
 g 2 </p>
END:VEVENT
BEGIN:VEVENT
UID:556B53AE-0469-DD86-63F2-45B6892D86C2
DTSTAMP:20260421T081753Z
CATEGORIES:Kader
DESCRIPTION:<p>Thema/Dienst: Stabsrapport <br /> Übungsstoff: Standortbesti
 mmung / Jahresziele <br /> Verantwortlich: Hptm Fuchs Reto <br /> Aufgebot
 : Stab </p>
DTSTART;TZID=Europe/Zurich:20250605T194500
DTEND;TZID=Europe/Zurich:20250605T214500
SUMMARY:Stabsrapport
URL:https://fw-mw.ch/uebungen/jahresprogramm-202/160-kader/573-stabsrapport
X-ALT-DESC;FMTTYPE=TEXT/HTML:<p>Thema/Dienst: Stabsrapport <br /> Übungssto
 ff: Standortbestimmung / Jahresziele <br /> Verantwortlich: Hptm Fuchs Ret
 o <br /> Aufgebot: Stab </p>
END:VEVENT
BEGIN:VEVENT
UID:20250609T000000CEST-2065PpnV7g@https://fw-mw.ch/
DTSTAMP:20260421T081753Z
CATEGORIES:Schulferien/Feiertage
DTSTART;TZID=Europe/Zurich:20250609T000000
DTEND;TZID=Europe/Zurich:20250609T235959
SUMMARY:Pfingstmontag
URL:https://fw-mw.ch/uebungen/jahresprogramm-202/184-schulferien/644-pfings
 tmontag
END:VEVENT
BEGIN:VEVENT
UID:DC4ACF7C-576B-DED4-A474-A2D665E42565
DTSTAMP:20260421T081753Z
CATEGORIES:Veranstaltungen / Diverses
DESCRIPTION:<p>Thema/Dienst: Vorstandssitzung <br /> Übungsstoff: gm. Trakt
 andenliste <br /> Verantwortlich: Hptm Fuchs Reto <br /> Aufgebot: - </p>
DTSTART;TZID=Europe/Zurich:20250611T180000
DTEND;TZID=Europe/Zurich:20250611T190000
SUMMARY:Vorstandssitzung
URL:https://fw-mw.ch/uebungen/jahresprogramm-202/179-veranstaltungen-divers
 es/574-vorstandssitzung
X-ALT-DESC;FMTTYPE=TEXT/HTML:<p>Thema/Dienst: Vorstandssitzung <br /> Übung
 sstoff: gm. Traktandenliste <br /> Verantwortlich: Hptm Fuchs Reto <br /> 
 Aufgebot: - </p>
END:VEVENT
BEGIN:VEVENT
UID:F72AD27B-B923-6776-02AF-0AEB330F129A
DTSTAMP:20260421T081753Z
CATEGORIES:Fahrtraining Gruppe 3
DESCRIPTION:<p>Thema/Dienst: Fahrschule Gruppe 3 <br /> Übungsstoff: Einsat
 zpläne\, Materialkenntnis PIF\, Aggregate\, Lichtmast\, Lüfter\, Hebebühne
  <br /> Verantwortlich: Oblt Müller René <br /> Aufgebot: Fahrschule Grupp
 e 3 </p>
DTSTART;TZID=Europe/Zurich:20250612T194500
DTEND;TZID=Europe/Zurich:20250612T214500
SUMMARY:Fahrschule Gruppe 3
URL:https://fw-mw.ch/uebungen/jahresprogramm-202/173-fahrtraining-gruppe-3/
 575-fahrschule-gruppe-3
X-ALT-DESC;FMTTYPE=TEXT/HTML:<p>Thema/Dienst: Fahrschule Gruppe 3 <br /> Üb
 ungsstoff: Einsatzpläne\, Materialkenntnis PIF\, Aggregate\, Lichtmast\, L
 üfter\, Hebebühne <br /> Verantwortlich: Oblt Müller René <br /> Aufgebot:
  Fahrschule Gruppe 3 </p>
END:VEVENT
BEGIN:VEVENT
UID:0BEBEBCA-44C3-15F9-1B01-33BB93A4B7A1
DTSTAMP:20260421T081753Z
CATEGORIES:Absturzsicherung
DESCRIPTION:<p>Thema/Dienst: Absturzsicherung <br /> Übungsstoff: Schrägdac
 h Grande Finale <br /> Verantwortlich: Adj Uof Rüede Sebastian <br /> Aufg
 ebot: Absturzsicherung \, Stabsabteilung Absturzsicherung </p>
DTSTART;TZID=Europe/Zurich:20250614T070000
DTEND;TZID=Europe/Zurich:20250614T120000
SUMMARY:Absturzsicherung
URL:https://fw-mw.ch/uebungen/jahresprogramm-202/170-absturzsicherung/576-a
 bsturzsicherung
X-ALT-DESC;FMTTYPE=TEXT/HTML:<p>Thema/Dienst: Absturzsicherung <br /> Übung
 sstoff: Schrägdach Grande Finale <br /> Verantwortlich: Adj Uof Rüede Seba
 stian <br /> Aufgebot: Absturzsicherung \, Stabsabteilung Absturzsicherung
  </p>
END:VEVENT
BEGIN:VEVENT
UID:3BC54510-44D9-E41C-338F-CA1DD06E7A34
DTSTAMP:20260421T081753Z
CATEGORIES:Elektriker
DESCRIPTION:<p>Thema/Dienst: Elektriker <br /> Übungsstoff: Netzkenntnisse 
 Unterkulm <br /> Verantwortlich: Kpl Voramwald Lukas Faustus <br /> Aufgeb
 ot: Elektroabteilung </p>
DTSTART;TZID=Europe/Zurich:20250616T194500
DTEND;TZID=Europe/Zurich:20250616T214500
SUMMARY:Elektriker
URL:https://fw-mw.ch/uebungen/jahresprogramm-202/169-elektriker/577-elektri
 ker
X-ALT-DESC;FMTTYPE=TEXT/HTML:<p>Thema/Dienst: Elektriker <br /> Übungsstoff
 : Netzkenntnisse Unterkulm <br /> Verantwortlich: Kpl Voramwald Lukas Faus
 tus <br /> Aufgebot: Elektroabteilung </p>
END:VEVENT
BEGIN:VEVENT
UID:6D62820E-A700-D503-4AC2-97F92D0CA804
DTSTAMP:20260421T081753Z
CATEGORIES:Maschinisten
DESCRIPTION:<p>Thema/Dienst: MS/TLF <br /> Übungsstoff: Druckverstärken ab 
 Hydrant und Ansaugen ab Gewässer + Einsatzplan 4. Teufenthal <br /> Verant
 wortlich: Lt Reize Tobias <br /> Aufgebot: Maschinisten\, Stabsabteilung M
 S </p>
DTSTART;TZID=Europe/Zurich:20250616T194500
DTEND;TZID=Europe/Zurich:20250616T214500
SUMMARY:MS/TLF
URL:https://fw-mw.ch/uebungen/jahresprogramm-202/167-maschinisten/578-ms-tl
 f
X-ALT-DESC;FMTTYPE=TEXT/HTML:<p>Thema/Dienst: MS/TLF <br /> Übungsstoff: Dr
 uckverstärken ab Hydrant und Ansaugen ab Gewässer + Einsatzplan 4. Teufent
 hal <br /> Verantwortlich: Lt Reize Tobias <br /> Aufgebot: Maschinisten\,
  Stabsabteilung MS </p>
END:VEVENT
BEGIN:VEVENT
UID:321C20BE-EA9B-8576-191B-52E3D72896D1
DTSTAMP:20260421T081753Z
CATEGORIES:Sanität
DESCRIPTION:<p>Thema/Dienst: Sanität <br /> Übungsstoff: Einsatzübung Brand
  mittel <br /> Verantwortlich: Wm Bossard Jessica\, Gfr Senn Petra <br /> 
 Aufgebot: Stabsabteilung\, Sanitätsabteilung </p>
DTSTART;TZID=Europe/Zurich:20250616T194500
DTEND;TZID=Europe/Zurich:20250616T214500
SUMMARY:Sanität
URL:https://fw-mw.ch/uebungen/jahresprogramm-202/168-sanitaet/579-sanitaet
X-ALT-DESC;FMTTYPE=TEXT/HTML:<p>Thema/Dienst: Sanität <br /> Übungsstoff: E
 insatzübung Brand mittel <br /> Verantwortlich: Wm Bossard Jessica\, Gfr S
 enn Petra <br /> Aufgebot: Stabsabteilung\, Sanitätsabteilung </p>
END:VEVENT
BEGIN:VEVENT
UID:710D3D4C-CDDC-C30B-4042-1AD56C436CC1
DTSTAMP:20260421T081753Z
CATEGORIES:Chargierte
DESCRIPTION:<p>Thema/Dienst: Chargierte <br /> Übungsstoff: Einsatzübung <b
 r /> Verantwortlich: Oblt Gurtner Florian <br /> Aufgebot: Kader </p>
DTSTART;TZID=Europe/Zurich:20250619T194500
DTEND;TZID=Europe/Zurich:20250619T214500
SUMMARY:Chargierte
URL:https://fw-mw.ch/uebungen/jahresprogramm-202/164-chargierte/580-chargie
 rte
X-ALT-DESC;FMTTYPE=TEXT/HTML:<p>Thema/Dienst: Chargierte <br /> Übungsstoff
 : Einsatzübung <br /> Verantwortlich: Oblt Gurtner Florian <br /> Aufgebot
 : Kader </p>
END:VEVENT
BEGIN:VEVENT
UID:0B5A8C68-3F4D-B25F-F3F0-27DACD47067D
DTSTAMP:20260421T081753Z
CATEGORIES:Kommando
DESCRIPTION:<p>Thema/Dienst: Kommandositzung <br /> Übungsstoff: - <br /> V
 erantwortlich: Hptm Fuchs Reto <br /> Aufgebot: Kommando </p>
DTSTART;TZID=Europe/Zurich:20250623T194500
DTEND;TZID=Europe/Zurich:20250623T214500
SUMMARY:Kommandositzung
URL:https://fw-mw.ch/uebungen/jahresprogramm-202/176-kommando/581-kommandos
 itzung
X-ALT-DESC;FMTTYPE=TEXT/HTML:<p>Thema/Dienst: Kommandositzung <br /> Übungs
 stoff: - <br /> Verantwortlich: Hptm Fuchs Reto <br /> Aufgebot: Kommando 
 </p>
END:VEVENT
BEGIN:VEVENT
UID:18AD69CE-478B-2DFE-7829-29352561A0B8
DTSTAMP:20260421T081753Z
CATEGORIES:Notfalltreffpunkte
DESCRIPTION:<p>Thema/Dienst: Notfalltreffpunkte <br /> Übungsstoff: Inbetri
 ebnahme NTP <br /> Verantwortlich: Wm Speck Patrick <br /> Aufgebot: Notfa
 lltreffpunkt </p>
DTSTART;TZID=Europe/Zurich:20250623T194500
DTEND;TZID=Europe/Zurich:20250623T214500
SUMMARY:Notfalltreffpunkte
URL:https://fw-mw.ch/uebungen/jahresprogramm-202/182-notfalltreffpunkte/582
 -notfalltreffpunkte
X-ALT-DESC;FMTTYPE=TEXT/HTML:<p>Thema/Dienst: Notfalltreffpunkte <br /> Übu
 ngsstoff: Inbetriebnahme NTP <br /> Verantwortlich: Wm Speck Patrick <br /
 > Aufgebot: Notfalltreffpunkt </p>
END:VEVENT
BEGIN:VEVENT
UID:BC1CEEFF-2765-9CCC-BA80-D903EA523CA7
DTSTAMP:20260421T081753Z
CATEGORIES:Gesamte FW
DESCRIPTION:Thema/Dienst: Fahrschule Gruppe 1 <br />\n Übungsstoff: Einsatz
 pläne\, Materialkenntnis SVF\, Schlauchausgabe und Aufrollen <br />\n Vera
 ntwortlich: Oblt Müller René <br />\n Aufgebot: Fahrschule Gruppe 1 <br />
 \n
DTSTART;TZID=Europe/Zurich:20250626T194500
DTEND;TZID=Europe/Zurich:20250626T214500
SUMMARY:Fahrschule Gruppe 1
URL:https://fw-mw.ch/uebungen/jahresprogramm-202/159-gesamte-fw/583-fahrsch
 ule-gruppe-1
X-ALT-DESC;FMTTYPE=TEXT/HTML:Thema/Dienst: Fahrschule Gruppe 1 <br />\n Übu
 ngsstoff: Einsatzpläne\, Materialkenntnis SVF\, Schlauchausgabe und Aufrol
 len <br />\n Verantwortlich: Oblt Müller René <br />\n Aufgebot: Fahrschul
 e Gruppe 1 <br />\n
END:VEVENT
BEGIN:VEVENT
UID:672D41A6-9802-F1A8-02A0-53A55F8B745D
DTSTAMP:20260421T081753Z
CATEGORIES:Kader
DESCRIPTION:<p>Thema/Dienst: Klausurtagung <br /> Übungsstoff: - <br /> Ver
 antwortlich: Oblt Janser Peter <br /> Aufgebot: - </p>
DTSTART;TZID=Europe/Zurich:20250628T080000
DTEND;TZID=Europe/Zurich:20250628T130000
SUMMARY:Klausurtagung
URL:https://fw-mw.ch/uebungen/jahresprogramm-202/160-kader/584-klausurtagun
 g
X-ALT-DESC;FMTTYPE=TEXT/HTML:<p>Thema/Dienst: Klausurtagung <br /> Übungsst
 off: - <br /> Verantwortlich: Oblt Janser Peter <br /> Aufgebot: - </p>
END:VEVENT
BEGIN:VEVENT
UID:019D3A8B-E6B9-68FB-7F8E-BB4CD507D2B0
DTSTAMP:20260421T081753Z
CATEGORIES:Atemschutz
DESCRIPTION:<p>Thema/Dienst: AS <br /> Übungsstoff: Basics - Sdt beüben AS 
 <br /> Verantwortlich: Lt Gloor Simon <br /> Aufgebot: Stabsabteilung AS\,
  Atemschutz </p>
DTSTART;TZID=Europe/Zurich:20250630T191500
DTEND;TZID=Europe/Zurich:20250630T214500
SUMMARY:Atemschutz
URL:https://fw-mw.ch/uebungen/jahresprogramm-202/165-atemschutz/585-as
X-ALT-DESC;FMTTYPE=TEXT/HTML:<p>Thema/Dienst: AS <br /> Übungsstoff: Basics
  - Sdt beüben AS <br /> Verantwortlich: Lt Gloor Simon <br /> Aufgebot: St
 absabteilung AS\, Atemschutz </p>
END:VEVENT
END:VCALENDAR
