BEGIN:VCALENDAR
VERSION:2.0
PRODID:-//https://fw-mw.ch//NONSGML kigkonsult.se iCalcreator 2.29.29//
CALSCALE:GREGORIAN
METHOD:PUBLISH
UID:2540fdb1-a5e0-471e-ac33-6b142912ec2d
X-WR-CALNAME:JCal Pro Kalender
X-WR-CALDESC:Ihr Online-Terminkalender
X-WR-TIMEZONE:Europe/Zurich
BEGIN:VTIMEZONE
TZID:Europe/Zurich
BEGIN:STANDARD
TZNAME:CET
DTSTART:20251026T030000
TZOFFSETFROM:+0200
TZOFFSETTO:+0100
RDATE:20261025T030000
END:STANDARD
BEGIN:DAYLIGHT
TZNAME:CEST
DTSTART:20260329T020000
TZOFFSETFROM:+0100
TZOFFSETTO:+0200
RDATE:20270328T020000
END:DAYLIGHT
END:VTIMEZONE
BEGIN:VEVENT
UID:20261024T170000CEST-0849ZWPGoh@https://fw-mw.ch/
DTSTAMP:20260424T154147Z
CATEGORIES:Gesamte FW
DTSTART;TZID=Europe/Zurich:20261024T170000
DTEND;TZID=Europe/Zurich:20261025T000000
SUMMARY:Schlussrapport
URL:https://fw-mw.ch/uebungen/jahresprogramm-202/159-gesamte-fw/758-schluss
 rapport
END:VEVENT
END:VCALENDAR
