BEGIN:VCALENDAR
VERSION:2.0
PRODID:-//https://fw-mw.ch//NONSGML kigkonsult.se iCalcreator 2.29.29//
CALSCALE:GREGORIAN
METHOD:PUBLISH
UID:63b88c09-4489-4e54-beca-face8cebd774
X-WR-CALNAME:JCal Pro Kalender
X-WR-CALDESC:Ihr Online-Terminkalender
X-WR-TIMEZONE:Europe/Zurich
BEGIN:VTIMEZONE
TZID:Europe/Zurich
BEGIN:STANDARD
TZNAME:CET
DTSTART:20251026T030000
TZOFFSETFROM:+0200
TZOFFSETTO:+0100
RDATE:20261025T030000
END:STANDARD
BEGIN:DAYLIGHT
TZNAME:CEST
DTSTART:20260329T020000
TZOFFSETFROM:+0100
TZOFFSETTO:+0200
RDATE:20270328T020000
END:DAYLIGHT
END:VTIMEZONE
BEGIN:VEVENT
UID:20260914T194500CEST-0582Atu7R1@https://fw-mw.ch/
DTSTAMP:20260424T165242Z
CATEGORIES:Verkehr
DTSTART;TZID=Europe/Zurich:20261019T194500
DTEND;TZID=Europe/Zurich:20261019T214500
SUMMARY:Verkehr
URL:https://fw-mw.ch/uebungen/jahresprogramm-202/166-verkehr/754-verkehr
END:VEVENT
BEGIN:VEVENT
UID:20260810T194500CEST-0096DJgslv@https://fw-mw.ch/
DTSTAMP:20260424T165242Z
CATEGORIES:Sanität
DTSTART;TZID=Europe/Zurich:20261019T194500
DTEND;TZID=Europe/Zurich:20261019T214500
SUMMARY:Sanität
URL:https://fw-mw.ch/uebungen/jahresprogramm-202/168-sanitaet/755-sanitaet
END:VEVENT
BEGIN:VEVENT
UID:20260810T194500CEST-7369DueAKU@https://fw-mw.ch/
DTSTAMP:20260424T165242Z
CATEGORIES:Elektriker
DTSTART;TZID=Europe/Zurich:20261019T194500
DTEND;TZID=Europe/Zurich:20261019T214500
SUMMARY:Elektriker
URL:https://fw-mw.ch/uebungen/jahresprogramm-202/169-elektriker/756-elektri
 ker
END:VEVENT
END:VCALENDAR
