BEGIN:VCALENDAR
VERSION:2.0
PRODID:-//https://fw-mw.ch//NONSGML kigkonsult.se iCalcreator 2.29.29//
CALSCALE:GREGORIAN
METHOD:PUBLISH
UID:656f1a1e-f96e-46bc-a875-f769e2289f9f
X-WR-CALNAME:JCal Pro Kalender
X-WR-CALDESC:Ihr Online-Terminkalender
X-WR-TIMEZONE:Europe/Zurich
BEGIN:VTIMEZONE
TZID:Europe/Zurich
BEGIN:STANDARD
TZNAME:CET
DTSTART:20251026T030000
TZOFFSETFROM:+0200
TZOFFSETTO:+0100
RDATE:20261025T030000
END:STANDARD
BEGIN:DAYLIGHT
TZNAME:CEST
DTSTART:20260329T020000
TZOFFSETFROM:+0100
TZOFFSETTO:+0200
RDATE:20270328T020000
END:DAYLIGHT
END:VTIMEZONE
BEGIN:VEVENT
UID:0BEBEBCA-44C3-15F9-1B01-33BB93A4B7A1
DTSTAMP:20260421T144218Z
CATEGORIES:Absturzsicherung
DESCRIPTION:<p>Thema/Dienst: Absturzsicherung <br /> Übungsstoff: Schrägdac
 h Grande Finale <br /> Verantwortlich: Adj Uof Rüede Sebastian <br /> Aufg
 ebot: Absturzsicherung \, Stabsabteilung Absturzsicherung </p>
DTSTART;TZID=Europe/Zurich:20250614T070000
DTEND;TZID=Europe/Zurich:20250614T120000
SUMMARY:Absturzsicherung
URL:https://fw-mw.ch/uebungen/jahresprogramm-202/170-absturzsicherung/576-a
 bsturzsicherung
X-ALT-DESC;FMTTYPE=TEXT/HTML:<p>Thema/Dienst: Absturzsicherung <br /> Übung
 sstoff: Schrägdach Grande Finale <br /> Verantwortlich: Adj Uof Rüede Seba
 stian <br /> Aufgebot: Absturzsicherung \, Stabsabteilung Absturzsicherung
  </p>
END:VEVENT
END:VCALENDAR
