BEGIN:VCALENDAR
VERSION:2.0
PRODID:-//https://fw-mw.ch//NONSGML kigkonsult.se iCalcreator 2.29.29//
CALSCALE:GREGORIAN
METHOD:PUBLISH
UID:7efa38c0-da12-4343-9723-069ab5fa8a60
X-WR-CALNAME:JCal Pro Kalender
X-WR-CALDESC:Ihr Online-Terminkalender
X-WR-TIMEZONE:Europe/Zurich
BEGIN:VTIMEZONE
TZID:Europe/Zurich
BEGIN:STANDARD
TZNAME:CET
DTSTART:20251026T030000
TZOFFSETFROM:+0200
TZOFFSETTO:+0100
RDATE:20261025T030000
END:STANDARD
BEGIN:DAYLIGHT
TZNAME:CEST
DTSTART:20260329T020000
TZOFFSETFROM:+0100
TZOFFSETTO:+0200
RDATE:20270328T020000
END:DAYLIGHT
END:VTIMEZONE
BEGIN:VEVENT
UID:0CFD1805-DB58-C5A5-A2A6-ED011EC1DC6F
DTSTAMP:20260423T081853Z
CATEGORIES:Maschinisten
DESCRIPTION:<p>Thema/Dienst: MS/TLF <br /> Übungsstoff: Gemeinsame Übung mi
 t DüLeu - Einsatzplan Bampf <br /> Verantwortlich: Oblt Dubler Patrick <br
  /> Aufgebot: Maschinisten\, Stabsabteilung MS </p>
DTSTART;TZID=Europe/Zurich:20250512T194500
DTEND;TZID=Europe/Zurich:20250512T214500
SUMMARY:MS/TLF
URL:https://fw-mw.ch/uebungen/jahresprogramm-202/167-maschinisten/560-ms-tl
 f
X-ALT-DESC;FMTTYPE=TEXT/HTML:<p>Thema/Dienst: MS/TLF <br /> Übungsstoff: Ge
 meinsame Übung mit DüLeu - Einsatzplan Bampf <br /> Verantwortlich: Oblt D
 ubler Patrick <br /> Aufgebot: Maschinisten\, Stabsabteilung MS </p>
END:VEVENT
END:VCALENDAR
