BEGIN:VCALENDAR
VERSION:2.0
PRODID:-//https://fw-mw.ch//NONSGML kigkonsult.se iCalcreator 2.29.29//
CALSCALE:GREGORIAN
METHOD:PUBLISH
UID:4e80a619-82e2-4380-a948-fca9caeef797
X-WR-CALNAME:JCal Pro Kalender
X-WR-CALDESC:Ihr Online-Terminkalender
X-WR-TIMEZONE:Europe/Zurich
BEGIN:VTIMEZONE
TZID:Europe/Zurich
BEGIN:STANDARD
TZNAME:CET
DTSTART:20251026T030000
TZOFFSETFROM:+0200
TZOFFSETTO:+0100
RDATE:20261025T030000
END:STANDARD
BEGIN:DAYLIGHT
TZNAME:CEST
DTSTART:20260329T020000
TZOFFSETFROM:+0100
TZOFFSETTO:+0200
RDATE:20270328T020000
END:DAYLIGHT
END:VTIMEZONE
BEGIN:VEVENT
UID:C2FBD17C-235C-10A3-149F-2A3F2607754A
DTSTAMP:20260421T081942Z
CATEGORIES:Kurs
DESCRIPTION:<p>Thema/Dienst: 87 <br /> Übungsstoff: - <br /> Verantwortlich
 : - <br /> Aufgebot: - </p>
DTSTART;TZID=Europe/Zurich:20250501T070000
DTEND;TZID=Europe/Zurich:20250501T170000
SUMMARY:303 FK Maschinisten TLF/MS
URL:https://fw-mw.ch/uebungen/jahresprogramm-202/185-kurs/556-303-fk-maschi
 nisten-tlf-ms
X-ALT-DESC;FMTTYPE=TEXT/HTML:<p>Thema/Dienst: 87 <br /> Übungsstoff: - <br 
 /> Verantwortlich: - <br /> Aufgebot: - </p>
END:VEVENT
END:VCALENDAR
