BEGIN:VCALENDAR
VERSION:2.0
PRODID:-//https://fw-mw.ch//NONSGML kigkonsult.se iCalcreator 2.29.29//
CALSCALE:GREGORIAN
METHOD:PUBLISH
UID:524c1a29-da0e-4022-9254-5c2a2144c25e
X-WR-CALNAME:JCal Pro Kalender
X-WR-CALDESC:Ihr Online-Terminkalender
X-WR-TIMEZONE:Europe/Zurich
BEGIN:VTIMEZONE
TZID:Europe/Zurich
BEGIN:STANDARD
TZNAME:CET
DTSTART:20251026T030000
TZOFFSETFROM:+0200
TZOFFSETTO:+0100
RDATE:20261025T030000
END:STANDARD
BEGIN:DAYLIGHT
TZNAME:CEST
DTSTART:20260329T020000
TZOFFSETFROM:+0100
TZOFFSETTO:+0200
RDATE:20270328T020000
END:DAYLIGHT
END:VTIMEZONE
BEGIN:VEVENT
UID:DC4ACF7C-576B-DED4-A474-A2D665E42565
DTSTAMP:20260423T113403Z
CATEGORIES:Veranstaltungen / Diverses
DESCRIPTION:<p>Thema/Dienst: Vorstandssitzung <br /> Übungsstoff: gm. Trakt
 andenliste <br /> Verantwortlich: Hptm Fuchs Reto <br /> Aufgebot: - </p>
DTSTART;TZID=Europe/Zurich:20250611T180000
DTEND;TZID=Europe/Zurich:20250611T190000
SUMMARY:Vorstandssitzung
URL:https://fw-mw.ch/uebungen/jahresprogramm-202/179-veranstaltungen-divers
 es/574-vorstandssitzung
X-ALT-DESC;FMTTYPE=TEXT/HTML:<p>Thema/Dienst: Vorstandssitzung <br /> Übung
 sstoff: gm. Traktandenliste <br /> Verantwortlich: Hptm Fuchs Reto <br /> 
 Aufgebot: - </p>
END:VEVENT
END:VCALENDAR
