BEGIN:VCALENDAR
VERSION:2.0
PRODID:-//https://fw-mw.ch//NONSGML kigkonsult.se iCalcreator 2.29.29//
CALSCALE:GREGORIAN
METHOD:PUBLISH
UID:195ffa52-23b4-4409-b883-3c7095f8c091
X-WR-CALNAME:JCal Pro Kalender
X-WR-CALDESC:Ihr Online-Terminkalender
X-WR-TIMEZONE:Europe/Zurich
BEGIN:VTIMEZONE
TZID:Europe/Zurich
BEGIN:STANDARD
TZNAME:CET
DTSTART:20251026T030000
TZOFFSETFROM:+0200
TZOFFSETTO:+0100
RDATE:20261025T030000
END:STANDARD
BEGIN:DAYLIGHT
TZNAME:CEST
DTSTART:20260329T020000
TZOFFSETFROM:+0100
TZOFFSETTO:+0200
RDATE:20270328T020000
END:DAYLIGHT
END:VTIMEZONE
BEGIN:VEVENT
UID:20251013T194500CEST-5804RBX03o@https://fw-mw.ch/
DTSTAMP:20260422T103150Z
CATEGORIES:Neueingeteilte
DTSTART;TZID=Europe/Zurich:20261012T194500
DTEND;TZID=Europe/Zurich:20261012T214500
SUMMARY:Neueingeteilte ausmessen
URL:https://fw-mw.ch/uebungen/jahresprogramm-202/178-neueingeteilte/752-neu
 eingeteilte-ausmessen
END:VEVENT
END:VCALENDAR
