BEGIN:VCALENDAR
VERSION:2.0
PRODID:-//https://fw-mw.ch//NONSGML kigkonsult.se iCalcreator 2.29.29//
CALSCALE:GREGORIAN
METHOD:PUBLISH
UID:e8067d6f-c61b-4b69-982a-f66626961e07
X-WR-CALNAME:JCal Pro Kalender
X-WR-CALDESC:Ihr Online-Terminkalender
X-WR-TIMEZONE:Europe/Zurich
BEGIN:VTIMEZONE
TZID:Europe/Zurich
BEGIN:STANDARD
TZNAME:CET
DTSTART:20251026T030000
TZOFFSETFROM:+0200
TZOFFSETTO:+0100
RDATE:20261025T030000
END:STANDARD
BEGIN:DAYLIGHT
TZNAME:CEST
DTSTART:20260329T020000
TZOFFSETFROM:+0100
TZOFFSETTO:+0200
RDATE:20270328T020000
END:DAYLIGHT
END:VTIMEZONE
BEGIN:VEVENT
UID:DA850315-582E-E3F5-CFFA-94A4F5C6DDD8
DTSTAMP:20260423T082619Z
CATEGORIES:Kommando
DESCRIPTION:<p>Thema/Dienst: Kommandositzung <br /> Übungsstoff: Budget 202
 6 <br /> Verantwortlich: Hptm Fuchs Reto <br /> Aufgebot: Kommando </p>
DTSTART;TZID=Europe/Zurich:20250513T194500
DTEND;TZID=Europe/Zurich:20250513T214500
SUMMARY:Kommandositzung
URL:https://fw-mw.ch/uebungen/jahresprogramm-202/176-kommando/561-kommandos
 itzung
X-ALT-DESC;FMTTYPE=TEXT/HTML:<p>Thema/Dienst: Kommandositzung <br /> Übungs
 stoff: Budget 2026 <br /> Verantwortlich: Hptm Fuchs Reto <br /> Aufgebot:
  Kommando </p>
END:VEVENT
END:VCALENDAR
