BEGIN:VCALENDAR
VERSION:2.0
PRODID:-//https://fw-mw.ch//NONSGML kigkonsult.se iCalcreator 2.29.29//
CALSCALE:GREGORIAN
METHOD:PUBLISH
UID:08181a29-8899-4454-b96c-1f3ada01738d
X-WR-CALNAME:JCal Pro Kalender
X-WR-CALDESC:Ihr Online-Terminkalender
X-WR-TIMEZONE:Europe/Zurich
BEGIN:VTIMEZONE
TZID:Europe/Zurich
BEGIN:STANDARD
TZNAME:CET
DTSTART:20251026T030000
TZOFFSETFROM:+0200
TZOFFSETTO:+0100
RDATE:20261025T030000
END:STANDARD
BEGIN:DAYLIGHT
TZNAME:CEST
DTSTART:20260329T020000
TZOFFSETFROM:+0100
TZOFFSETTO:+0200
RDATE:20270328T020000
END:DAYLIGHT
END:VTIMEZONE
BEGIN:VEVENT
UID:20260219T194500CET-1222bjmGgR@https://fw-mw.ch/
DTSTAMP:20260420T084254Z
CATEGORIES:Fahrtraining Verkehr Gruppe 2
DTSTART;TZID=Europe/Zurich:20260528T194500
DTEND;TZID=Europe/Zurich:20260528T214500
SUMMARY:Fahrtraining Verkehr Gruppe 2
URL:https://fw-mw.ch/uebungen/jahresprogramm-202/175-fahrtraining-verkehr-g
 ruppe-2/703-fahrtraining-verkehr-gruppe-2
END:VEVENT
BEGIN:VEVENT
UID:20260528T194500CEST-6287SV9RzO@https://fw-mw.ch/
DTSTAMP:20260420T084254Z
CATEGORIES:Fahrtraining Verkehr Gruppe 2
DTSTART;TZID=Europe/Zurich:20260827T194500
DTEND;TZID=Europe/Zurich:20260827T214500
SUMMARY:Fahrtraining Verkehr Gruppe 2
URL:https://fw-mw.ch/uebungen/jahresprogramm-202/175-fahrtraining-verkehr-g
 ruppe-2/733-fahrtraining-verkehr-gruppe-2
END:VEVENT
BEGIN:VEVENT
UID:20260827T194500CEST-9284fAKEFz@https://fw-mw.ch/
DTSTAMP:20260420T084254Z
CATEGORIES:Fahrtraining Verkehr Gruppe 2
DTSTART;TZID=Europe/Zurich:20261119T194500
DTEND;TZID=Europe/Zurich:20261119T214500
SUMMARY:Fahrtraining Verkehr Gruppe 2
URL:https://fw-mw.ch/uebungen/jahresprogramm-202/175-fahrtraining-verkehr-g
 ruppe-2/771-fahrtraining-verkehr-gruppe-2
END:VEVENT
END:VCALENDAR
