BEGIN:VCALENDAR
VERSION:2.0
PRODID:-//https://fw-mw.ch//NONSGML kigkonsult.se iCalcreator 2.29.29//
CALSCALE:GREGORIAN
METHOD:PUBLISH
UID:1eab372e-1d15-40a6-bf0b-590b4ac1d666
X-WR-CALNAME:JCal Pro Kalender
X-WR-CALDESC:Ihr Online-Terminkalender
X-WR-TIMEZONE:Europe/Zurich
BEGIN:VTIMEZONE
TZID:Europe/Zurich
BEGIN:STANDARD
TZNAME:CET
DTSTART:20251026T030000
TZOFFSETFROM:+0200
TZOFFSETTO:+0100
RDATE:20261025T030000
END:STANDARD
BEGIN:DAYLIGHT
TZNAME:CEST
DTSTART:20260329T020000
TZOFFSETFROM:+0100
TZOFFSETTO:+0200
RDATE:20270328T020000
END:DAYLIGHT
END:VTIMEZONE
BEGIN:VEVENT
UID:20260817T191500CEST-8790wT03DH@https://fw-mw.ch/
DTSTAMP:20260424T081349Z
CATEGORIES:Atemschutz
DTSTART;TZID=Europe/Zurich:20260904T191500
DTEND;TZID=Europe/Zurich:20260904T214500
SUMMARY:Atemschutz MBA
URL:https://fw-mw.ch/uebungen/jahresprogramm-202/165-atemschutz/737-atemsch
 utz-mba
END:VEVENT
END:VCALENDAR
