BEGIN:VCALENDAR
VERSION:2.0
PRODID:-//https://fw-mw.ch//NONSGML kigkonsult.se iCalcreator 2.29.29//
CALSCALE:GREGORIAN
METHOD:PUBLISH
UID:e46fab83-42b4-466b-86dd-021e8e1d3a23
X-WR-CALNAME:JCal Pro Kalender
X-WR-CALDESC:Ihr Online-Terminkalender
X-WR-TIMEZONE:Europe/Zurich
BEGIN:VTIMEZONE
TZID:Europe/Zurich
BEGIN:STANDARD
TZNAME:CET
DTSTART:20251026T030000
TZOFFSETFROM:+0200
TZOFFSETTO:+0100
RDATE:20261025T030000
END:STANDARD
BEGIN:DAYLIGHT
TZNAME:CEST
DTSTART:20260329T020000
TZOFFSETFROM:+0100
TZOFFSETTO:+0200
RDATE:20270328T020000
END:DAYLIGHT
END:VTIMEZONE
BEGIN:VEVENT
UID:20260504T191500CEST-7727dHuj9I@https://fw-mw.ch/
DTSTAMP:20260420T082243Z
CATEGORIES:Atemschutz
DTSTART;TZID=Europe/Zurich:20260629T191500
DTEND;TZID=Europe/Zurich:20260629T214500
SUMMARY:Atemschutz
URL:https://fw-mw.ch/uebungen/jahresprogramm-202/165-atemschutz/712-atemsch
 utz
END:VEVENT
END:VCALENDAR
