BEGIN:VCALENDAR
VERSION:2.0
PRODID:-//https://fw-mw.ch//NONSGML kigkonsult.se iCalcreator 2.29.29//
CALSCALE:GREGORIAN
METHOD:PUBLISH
UID:cfd30251-d2cc-413b-ace5-737095c0d895
X-WR-CALNAME:JCal Pro Kalender
X-WR-CALDESC:Ihr Online-Terminkalender
X-WR-TIMEZONE:Europe/Zurich
BEGIN:VTIMEZONE
TZID:Europe/Zurich
BEGIN:STANDARD
TZNAME:CET
DTSTART:20251026T030000
TZOFFSETFROM:+0200
TZOFFSETTO:+0100
RDATE:20261025T030000
END:STANDARD
BEGIN:DAYLIGHT
TZNAME:CEST
DTSTART:20260329T020000
TZOFFSETFROM:+0100
TZOFFSETTO:+0200
RDATE:20270328T020000
END:DAYLIGHT
END:VTIMEZONE
BEGIN:VEVENT
UID:019D3A8B-E6B9-68FB-7F8E-BB4CD507D2B0
DTSTAMP:20260423T101519Z
CATEGORIES:Atemschutz
DESCRIPTION:<p>Thema/Dienst: AS <br /> Übungsstoff: Basics - Sdt beüben AS 
 <br /> Verantwortlich: Lt Gloor Simon <br /> Aufgebot: Stabsabteilung AS\,
  Atemschutz </p>
DTSTART;TZID=Europe/Zurich:20250630T191500
DTEND;TZID=Europe/Zurich:20250630T214500
SUMMARY:Atemschutz
URL:https://fw-mw.ch/uebungen/jahresprogramm-202/165-atemschutz/585-as
X-ALT-DESC;FMTTYPE=TEXT/HTML:<p>Thema/Dienst: AS <br /> Übungsstoff: Basics
  - Sdt beüben AS <br /> Verantwortlich: Lt Gloor Simon <br /> Aufgebot: St
 absabteilung AS\, Atemschutz </p>
END:VEVENT
END:VCALENDAR
